BEGIN:VCALENDAR
VERSION:2.0
PRODID:-//Luca Rigoldi - ECPv5.0.1//NONSGML v1.0//EN
CALSCALE:GREGORIAN
METHOD:PUBLISH
X-WR-CALNAME:Luca Rigoldi
X-ORIGINAL-URL:https://www.lucarigoldi.it
X-WR-CALDESC:Eventi per Luca Rigoldi
BEGIN:VTIMEZONE
TZID:Europe/Rome
BEGIN:DAYLIGHT
TZOFFSETFROM:+0100
TZOFFSETTO:+0200
TZNAME:CEST
DTSTART:20150329T010000
END:DAYLIGHT
BEGIN:STANDARD
TZOFFSETFROM:+0200
TZOFFSETTO:+0100
TZNAME:CET
DTSTART:20151025T010000
END:STANDARD
END:VTIMEZONE
BEGIN:VEVENT
DTSTART;TZID=Europe/Rome:20150912T145500
DTEND;TZID=Europe/Rome:20150912T170000
DTSTAMP:20260422T165727
CREATED:20150909T074917Z
LAST-MODIFIED:20150909T075311Z
UID:180-1442069700-1442077200@www.lucarigoldi.it
SUMMARY:Sbarco su Diretta BiancoRossa
DESCRIPTION:Ulteriore passo verso la notorietà!\nQuesta volta il nostro pugile ritorna negli studi di TvA Vicenza come ospite di Diretta BiancoRossa\, la trasmissione ufficiale di qualsiasi tifoso vicentino\, per parlarci dei suoi successi iniziale e delle sue aspettative future. \nPer chi non potesse seguire in diretta la trasmissione\, è possibile rivedere la puntata in streaming all’interno della pagina dedicata e già che ci siete\, perché non supportare i nostri amici con un like sulla loro pagina ufficiale Facebook? \nCondividi:FacebookWhatsAppTelegram
URL:https://www.lucarigoldi.it/evento/sbarco-su-diretta-biancorossa/
CATEGORIES:Apparizioni pubbliche
ATTACH;FMTTYPE=image/jpeg:https://www.lucarigoldi.it/wp-content/uploads/2015/09/direttabiancorossa.jpg
END:VEVENT
END:VCALENDAR